BEGIN:VCALENDAR
VERSION:2.0
PRODID:-//tggairborneques.org - ECPv6.15.18//NONSGML v1.0//EN
CALSCALE:GREGORIAN
METHOD:PUBLISH
X-ORIGINAL-URL:https://tggairborneques.org
X-WR-CALDESC:Events for tggairborneques.org
REFRESH-INTERVAL;VALUE=DURATION:PT1H
X-Robots-Tag:noindex
X-PUBLISHED-TTL:PT1H
BEGIN:VTIMEZONE
TZID:UTC
BEGIN:STANDARD
TZOFFSETFROM:+0000
TZOFFSETTO:+0000
TZNAME:UTC
DTSTART:20250101T000000
END:STANDARD
END:VTIMEZONE
BEGIN:VEVENT
DTSTART;TZID=UTC:20260306T080000
DTEND;TZID=UTC:20260306T170000
DTSTAMP:20260420T102721
CREATED:20260209T133907Z
LAST-MODIFIED:20260419T140526Z
UID:494-1772784000-1772816400@tggairborneques.org
SUMMARY:Friendship Friday KBJ
DESCRIPTION:TBD
URL:https://tggairborneques.org/event/friendship-friday-kbj/
LOCATION:SC
ATTACH;FMTTYPE=image/png:https://tggairborneques.org/wp-content/uploads/2026/04/friendshipfridays.png
END:VEVENT
END:VCALENDAR