BEGIN:VCALENDAR
VERSION:2.0
PRODID:-//tggairborneques.org - ECPv6.15.18//NONSGML v1.0//EN
CALSCALE:GREGORIAN
METHOD:PUBLISH
X-WR-CALNAME:tggairborneques.org
X-ORIGINAL-URL:https://tggairborneques.org
X-WR-CALDESC:Events for tggairborneques.org
REFRESH-INTERVAL;VALUE=DURATION:PT1H
X-Robots-Tag:noindex
X-PUBLISHED-TTL:PT1H
BEGIN:VTIMEZONE
TZID:UTC
BEGIN:STANDARD
TZOFFSETFROM:+0000
TZOFFSETTO:+0000
TZNAME:UTC
DTSTART:20250101T000000
END:STANDARD
END:VTIMEZONE
BEGIN:VEVENT
DTSTART;TZID=UTC:20260421T123000
DTEND;TZID=UTC:20260421T133000
DTSTAMP:20260421T105827
CREATED:20260209T133711Z
LAST-MODIFIED:20260419T150249Z
UID:490-1776774600-1776778200@tggairborneques.org
SUMMARY:Purple & Gold Mentorship E.E. Smith HS
DESCRIPTION:Mentors and/or presenters should arrive at Noon.
URL:https://tggairborneques.org/event/purple-gold-mentorship-e-e-smith-hs/
LOCATION:SC
ATTACH;FMTTYPE=image/png:https://tggairborneques.org/wp-content/uploads/2026/04/PandG_Mentorship.png
END:VEVENT
END:VCALENDAR