BEGIN:VCALENDAR
VERSION:2.0
PRODID:-//tggairborneques.org - ECPv6.15.18//NONSGML v1.0//EN
CALSCALE:GREGORIAN
METHOD:PUBLISH
X-WR-CALNAME:tggairborneques.org
X-ORIGINAL-URL:https://tggairborneques.org
X-WR-CALDESC:Events for tggairborneques.org
REFRESH-INTERVAL;VALUE=DURATION:PT1H
X-Robots-Tag:noindex
X-PUBLISHED-TTL:PT1H
BEGIN:VTIMEZONE
TZID:UTC
BEGIN:STANDARD
TZOFFSETFROM:+0000
TZOFFSETTO:+0000
TZNAME:UTC
DTSTART:20250101T000000
END:STANDARD
END:VTIMEZONE
BEGIN:VEVENT
DTSTART;TZID=UTC:20260307T140000
DTEND;TZID=UTC:20260307T180000
DTSTAMP:20260419T151839
CREATED:20260209T133535Z
LAST-MODIFIED:20260209T133535Z
UID:484-1772892000-1772906400@tggairborneques.org
SUMMARY:Coleman Love Karaoke
DESCRIPTION:Date: Saturday\, March 7th \nTime: 2 PM – 6 PM \nLocation: \nThe Warehouse \n226 Donaldson St. \nFayetteville\, NC \n\nEvent Description/Highlights:\nTRAP | R&B | BLUES & MUCH MORE! \nLIVE DJ \nFOOD TRUCKS \n(Implied: Karaoke singing\, based on the event name) \n\nTicket Information:\nGeneral Admission: $25 \nVIP Admission: $50 \n\n“GRAB YOUR TICKETS HERE!”\n \n\nContact Information (for event inquiries):\nPOC: APRIL BRATCHER | (910) 229-1247 | (LAAG) | (910) 916-4422 (TOS)
URL:https://tggairborneques.org/event/coleman-love-karaoke/
LOCATION:The Warehouse\, 226 Donaldson St.\, Fayetteville\, North Carolina\, 28314\, United States
ATTACH;FMTTYPE=image/jpeg:https://tggairborneques.org/wp-content/uploads/2026/02/karaoke.jpg
END:VEVENT
BEGIN:VEVENT
DTSTART;TZID=UTC:20260306T080000
DTEND;TZID=UTC:20260306T170000
DTSTAMP:20260419T151839
CREATED:20260209T133907Z
LAST-MODIFIED:20260419T140526Z
UID:494-1772784000-1772816400@tggairborneques.org
SUMMARY:Friendship Friday KBJ
DESCRIPTION:TBD
URL:https://tggairborneques.org/event/friendship-friday-kbj/
LOCATION:SC
ATTACH;FMTTYPE=image/png:https://tggairborneques.org/wp-content/uploads/2026/04/friendshipfridays.png
END:VEVENT
BEGIN:VEVENT
DTSTART;TZID=UTC:20260304T080000
DTEND;TZID=UTC:20260304T170000
DTSTAMP:20260419T151839
CREATED:20260209T133813Z
LAST-MODIFIED:20260419T140549Z
UID:492-1772611200-1772643600@tggairborneques.org
SUMMARY:Mentorship Westover HS
DESCRIPTION:TBD
URL:https://tggairborneques.org/event/mentorship-westover-hs/
LOCATION:SC
ATTACH;FMTTYPE=image/png:https://tggairborneques.org/wp-content/uploads/2026/04/highschoolmentorship.png
END:VEVENT
END:VCALENDAR