BEGIN:VCALENDAR
VERSION:2.0
PRODID:-//tggairborneques.org - ECPv6.15.18//NONSGML v1.0//EN
CALSCALE:GREGORIAN
METHOD:PUBLISH
X-ORIGINAL-URL:https://tggairborneques.org
X-WR-CALDESC:Events for tggairborneques.org
REFRESH-INTERVAL;VALUE=DURATION:PT1H
X-Robots-Tag:noindex
X-PUBLISHED-TTL:PT1H
BEGIN:VTIMEZONE
TZID:UTC
BEGIN:STANDARD
TZOFFSETFROM:+0000
TZOFFSETTO:+0000
TZNAME:UTC
DTSTART:20250101T000000
END:STANDARD
END:VTIMEZONE
BEGIN:VEVENT
DTSTART;TZID=UTC:20260307T140000
DTEND;TZID=UTC:20260307T180000
DTSTAMP:20260420T121755
CREATED:20260209T133535Z
LAST-MODIFIED:20260209T133535Z
UID:484-1772892000-1772906400@tggairborneques.org
SUMMARY:Coleman Love Karaoke
DESCRIPTION:Date: Saturday\, March 7th \nTime: 2 PM – 6 PM \nLocation: \nThe Warehouse \n226 Donaldson St. \nFayetteville\, NC \n\nEvent Description/Highlights:\nTRAP | R&B | BLUES & MUCH MORE! \nLIVE DJ \nFOOD TRUCKS \n(Implied: Karaoke singing\, based on the event name) \n\nTicket Information:\nGeneral Admission: $25 \nVIP Admission: $50 \n\n“GRAB YOUR TICKETS HERE!”\n \n\nContact Information (for event inquiries):\nPOC: APRIL BRATCHER | (910) 229-1247 | (LAAG) | (910) 916-4422 (TOS)
URL:https://tggairborneques.org/event/coleman-love-karaoke/
LOCATION:The Warehouse\, 226 Donaldson St.\, Fayetteville\, North Carolina\, 28314\, United States
ATTACH;FMTTYPE=image/jpeg:https://tggairborneques.org/wp-content/uploads/2026/02/karaoke.jpg
END:VEVENT
BEGIN:VEVENT
DTSTART;TZID=UTC:20260316T080000
DTEND;TZID=UTC:20260316T170000
DTSTAMP:20260420T121755
CREATED:20260209T134055Z
LAST-MODIFIED:20260419T140445Z
UID:496-1773648000-1773680400@tggairborneques.org
SUMMARY:Community Care
DESCRIPTION:
URL:https://tggairborneques.org/event/community-care/
LOCATION:SC
ATTACH;FMTTYPE=image/png:https://tggairborneques.org/wp-content/uploads/2026/04/communicare.png
END:VEVENT
BEGIN:VEVENT
DTSTART;TZID=UTC:20260406T180000
DTEND;TZID=UTC:20260406T220000
DTSTAMP:20260420T121755
CREATED:20260403T141352Z
LAST-MODIFIED:20260403T141352Z
UID:987-1775498400-1775512800@tggairborneques.org
SUMMARY:MSP Training
DESCRIPTION:MSP Training
URL:https://tggairborneques.org/event/msp-training/
LOCATION:SC
ATTACH;FMTTYPE=image/png:https://tggairborneques.org/wp-content/uploads/2026/02/gold.png
END:VEVENT
BEGIN:VEVENT
DTSTART;TZID=UTC:20260410T191100
DTEND;TZID=UTC:20260410T220000
DTSTAMP:20260420T121755
CREATED:20260403T141636Z
LAST-MODIFIED:20260419T140343Z
UID:989-1775848260-1775858400@tggairborneques.org
SUMMARY:Friendship Friday
DESCRIPTION:Friendship Friday; 10 April at KBJ @ 7:11 PM
URL:https://tggairborneques.org/event/friendship-friday/
LOCATION:SC
ATTACH;FMTTYPE=image/png:https://tggairborneques.org/wp-content/uploads/2026/04/friendshipfridays.png
END:VEVENT
BEGIN:VEVENT
DTSTART;TZID=UTC:20260415T154500
DTEND;TZID=UTC:20260415T170000
DTSTAMP:20260420T121755
CREATED:20260403T141049Z
LAST-MODIFIED:20260419T140303Z
UID:983-1776267900-1776272400@tggairborneques.org
SUMMARY:Westover High School Mentorship Meeting
DESCRIPTION:Westover High School Mentorship Meeting
URL:https://tggairborneques.org/event/westover-high-school-mentorship-meeting/
LOCATION:SC
ATTACH;FMTTYPE=image/png:https://tggairborneques.org/wp-content/uploads/2026/04/highschoolmentorship.png
END:VEVENT
BEGIN:VEVENT
DTSTART;TZID=UTC:20260421T123000
DTEND;TZID=UTC:20260421T133000
DTSTAMP:20260420T121755
CREATED:20260209T133711Z
LAST-MODIFIED:20260419T150249Z
UID:490-1776774600-1776778200@tggairborneques.org
SUMMARY:Purple & Gold Mentorship E.E. Smith HS
DESCRIPTION:Mentors and/or presenters should arrive at Noon.
URL:https://tggairborneques.org/event/purple-gold-mentorship-e-e-smith-hs/
LOCATION:SC
ATTACH;FMTTYPE=image/png:https://tggairborneques.org/wp-content/uploads/2026/04/PandG_Mentorship.png
END:VEVENT
BEGIN:VEVENT
DTSTART;VALUE=DATE:20260423
DTEND;VALUE=DATE:20260427
DTSTAMP:20260420T121755
CREATED:20260419T141146Z
LAST-MODIFIED:20260419T145827Z
UID:1094-1776902400-1777247999@tggairborneques.org
SUMMARY:The Mighty Sixth District 81st Sixth District Annual Meeting
DESCRIPTION:The Mighty Sixth District\n81st Sixth District Annual Meeting\nOmega Psi Phi Fraternity\, Inc\nApril 23 – April 26\, 2026\, Spartanburg\, SC\nHost Chapter Epsilon Nu
URL:https://tggairborneques.org/event/the-mighty-sixth-district-81st-sixth-district-annual-meeting/
LOCATION:Spartanburg\, SC\, SC\, United States
ATTACH;FMTTYPE=image/jpeg:https://tggairborneques.org/wp-content/uploads/2026/04/6D_Annual_Meeting.jpg
END:VEVENT
BEGIN:VEVENT
DTSTART;TZID=UTC:20260428T173000
DTEND;TZID=UTC:20260428T213000
DTSTAMP:20260420T121755
CREATED:20260403T141828Z
LAST-MODIFIED:20260419T140113Z
UID:991-1777397400-1777411800@tggairborneques.org
SUMMARY:Communi-Care Mentorship Program
DESCRIPTION:Communi-Care Mentorship Program; 28 April @ 5:30
URL:https://tggairborneques.org/event/communi-care-mentorship-program/
LOCATION:SC
ATTACH;FMTTYPE=image/png:https://tggairborneques.org/wp-content/uploads/2026/04/communicare.png
END:VEVENT
BEGIN:VEVENT
DTSTART;TZID=UTC:20260504T123000
DTEND;TZID=UTC:20260504T133000
DTSTAMP:20260420T121755
CREATED:20260403T141230Z
LAST-MODIFIED:20260419T150430Z
UID:985-1777897800-1777901400@tggairborneques.org
SUMMARY:Purple and Gold Mentorship Meeting (E.E. Smith High School)
DESCRIPTION:Mentors and/or presenters should arrive at Noon.
URL:https://tggairborneques.org/event/purple-and-gold-mentorship-meeting-e-e-smith-high-school/
LOCATION:SC
ATTACH;FMTTYPE=image/png:https://tggairborneques.org/wp-content/uploads/2026/04/PandG_Mentorship.png
END:VEVENT
BEGIN:VEVENT
DTSTART;TZID=UTC:20260506T154500
DTEND;TZID=UTC:20260506T170000
DTSTAMP:20260420T121755
CREATED:20260406T130624Z
LAST-MODIFIED:20260419T140051Z
UID:1008-1778082300-1778086800@tggairborneques.org
SUMMARY:Westover High School Mentorship Meeting
DESCRIPTION:Westover High School Mentorship Meeting; 6 & 20 May @ 3:45 PM
URL:https://tggairborneques.org/event/westover-high-school-mentorship-meeting-2/
LOCATION:SC
ATTACH;FMTTYPE=image/png:https://tggairborneques.org/wp-content/uploads/2026/04/highschoolmentorship.png
END:VEVENT
BEGIN:VEVENT
DTSTART;TZID=UTC:20260508T191100
DTEND;TZID=UTC:20260508T220000
DTSTAMP:20260420T121755
CREATED:20260406T133246Z
LAST-MODIFIED:20260419T140006Z
UID:1014-1778267460-1778277600@tggairborneques.org
SUMMARY:Friendship Friday
DESCRIPTION:Friendship Friday; 8 May at KBJ @ 7:11 PM
URL:https://tggairborneques.org/event/friendship-friday-2/
LOCATION:SC
ATTACH;FMTTYPE=image/png:https://tggairborneques.org/wp-content/uploads/2026/04/friendshipfridays.png
END:VEVENT
BEGIN:VEVENT
DTSTART;TZID=UTC:20260518T173000
DTEND;TZID=UTC:20260518T220000
DTSTAMP:20260420T121755
CREATED:20260406T133812Z
LAST-MODIFIED:20260419T135834Z
UID:1016-1779125400-1779141600@tggairborneques.org
SUMMARY:Communi-Care Mentorship Program
DESCRIPTION:Communi-Care Mentorship Program; 18 May @ 5:30 PM
URL:https://tggairborneques.org/event/communi-care-mentorship-program-2/
LOCATION:SC
ATTACH;FMTTYPE=image/png:https://tggairborneques.org/wp-content/uploads/2026/04/communicare.png
END:VEVENT
BEGIN:VEVENT
DTSTART;TZID=UTC:20260520T154500
DTEND;TZID=UTC:20260520T170000
DTSTAMP:20260420T121755
CREATED:20260406T132243Z
LAST-MODIFIED:20260419T135729Z
UID:1012-1779291900-1779296400@tggairborneques.org
SUMMARY:Westover High School Mentorship Meeting
DESCRIPTION:Westover High School Mentorship Meeting; 6 & 20 May @ 3:45 PM
URL:https://tggairborneques.org/event/westover-high-school-mentorship-meeting-3/
LOCATION:SC
ATTACH;FMTTYPE=image/png:https://tggairborneques.org/wp-content/uploads/2026/04/highschoolmentorship.png
END:VEVENT
END:VCALENDAR